BEGIN:VCALENDAR
VERSION:2.0
PRODID:-// MasterStudy LMS plugin //NONSGML v1.0//EN
CALSCALE:GREGORIAN
BEGIN:VEVENT
UID:mslms-1776659160
SUMMARY:Why local businesses benefit from AI
LOCATION:
DESCRIPTION<ol>
<li><strong>Current context</strong> in Local Businesses in Austin, Texas</li>
<li>Relevant <strong>ways to use</strong> artifical intelligence (<strong>Claude</strong>) in your business, by category:
<ol style="list-style-type: lower-alpha">
<li>Food &amp; Dinning</li>
<li>Health &amp; Medicine</li>
<li>Shopping &amp; Retail</li>
<li>Beauty &amp; Spas</li>
</ol>
</li>
<li>How to create your claude <strong>account</strong> and <strong>login</strong>
<ol style="list-style-type: lower-alpha">
<li>ChatGPT (Free or Plus)</li>
<li>Claude (Free or Pro)&nbsp;</li>
</ol>
</li>
<li><strong>Tour</strong> the interfaces:
<ol style="list-style-type: lower-alpha">
<li>chat,</li>
<li>history,</li>
<li>file uploads,</li>
<li>model selection&nbsp;</li>
</ol>
</li>
<li><strong>Key difference </strong>between Claude and ChatGPT</li>
</ol>
URL;VALUE=URI:https://wordpress.org/plugins/masterstudy-lms-learning-management-system/
DTSTART:20260424T220000Z
DTEND:20260424T230000Z
DTSTAMP:20260420T042600Z
BEGIN:VALARM
ACTION:DISPLAY
RIGGER;RELATED=START:-PT00H15M00S
BEGIN:VALARM
END:VEVENT
END:VCALENDAR