BEGIN:VCALENDAR
VERSION:2.0
PRODID:-// MasterStudy LMS plugin //NONSGML v1.0//EN
CALSCALE:GREGORIAN
BEGIN:VEVENT
UID:mslms-1776659644
SUMMARY:The Core Prompting Framework
LOCATION:
DESCRIPTION<p dir="ltr"><strong>C.O.R.E.</strong> method for small business:&nbsp;&nbsp;</p>
<div>
<div>&nbsp;&nbsp; Context (who you are, your community)&nbsp;&nbsp;</div>
<br>
<div>&nbsp;&nbsp; Objective (what you need)&nbsp;&nbsp;</div>
<br>
<div>&nbsp;&nbsp; Requirements (tone, length, format, local references)&nbsp;&nbsp;</div>
<br>
<div>&nbsp;&nbsp; Example (show, don&rsquo;t just tell)&nbsp;&nbsp;</div>
<br>
<div>Activity: Write a bad prompt &rarr; improve using C.O.R.E.&nbsp;&nbsp;</div>
<br>
<div>Live demo: &ldquo;Write a Facebook post for a local plant nursery&rsquo;s weekend sale&rdquo;</div>
</div>
URL;VALUE=URI:https://wordpress.org/plugins/masterstudy-lms-learning-management-system/
DTSTART:20260424T224500Z
DTEND:20260424T234500Z
DTSTAMP:20260420T043404Z
BEGIN:VALARM
ACTION:DISPLAY
RIGGER;RELATED=START:-PT00H15M00S
BEGIN:VALARM
END:VEVENT
END:VCALENDAR