BEGIN:VCALENDAR
VERSION:2.0
PRODID:-// MasterStudy LMS plugin //NONSGML v1.0//EN
CALSCALE:GREGORIAN
BEGIN:VEVENT
UID:mslms-1776659887
SUMMARY:Simple Automation &amp; Templates
LOCATION:
DESCRIPTION<p dir="ltr">- **Creating reusable prompt templates** (fill‑in‑the‑blank)&nbsp;&nbsp;</p>
<p dir="ltr">- **Combining both AIs:**&nbsp;&nbsp;</p>
<p dir="ltr">&nbsp;&nbsp;- ChatGPT generates bullet points &rarr; Claude rewrites as a warm story&nbsp;&nbsp;</p>
<p dir="ltr">- **Using file uploads:**&nbsp;&nbsp;</p>
<p dir="ltr">&nbsp;&nbsp;- Upload your price list / menu &rarr; ask for a weekly special announcement&nbsp;&nbsp;</p>
<p dir="ltr">- **Voice &amp; text boundaries:** When to copy‑paste into Canva, email, or social scheduler</p>
<p>&nbsp;</p>
URL;VALUE=URI:https://wordpress.org/plugins/masterstudy-lms-learning-management-system/
DTSTART:20260426T160000Z
DTEND:20260426T170000Z
DTSTAMP:20260420T043807Z
BEGIN:VALARM
ACTION:DISPLAY
RIGGER;RELATED=START:-PT00H15M00S
BEGIN:VALARM
END:VEVENT
END:VCALENDAR