BEGIN:VCALENDAR
VERSION:2.0
PRODID:-// MasterStudy LMS plugin //NONSGML v1.0//EN
CALSCALE:GREGORIAN
BEGIN:VEVENT
UID:mslms-1776658631
SUMMARY:Product / Service Descriptions
LOCATION:
DESCRIPTION<p dir="ltr">- **Batching prompts:**&nbsp;&nbsp;</p>
<p dir="ltr">&nbsp;&nbsp;- &ldquo;For each of these 10 products, write a 2‑sentence description. First product example: [paste]&rdquo;&nbsp;&nbsp;</p>
<p dir="ltr">- **Local flavor injection:**&nbsp;&nbsp;</p>
<p dir="ltr">&nbsp;&nbsp;- &ldquo;Mention that we source from [local farm / nearby town] and support [local cause]&rdquo;&nbsp;&nbsp;</p>
<p dir="ltr">- **Claude advantage:** Upload a spreadsheet of products &rarr; Claude reads it and outputs descriptions in one go&nbsp;&nbsp;</p>
<p dir="ltr">- Activity: Upload own product list (students prepare a simple .txt or .csv)</p>
<p>&nbsp;</p>
URL;VALUE=URI:https://wordpress.org/plugins/masterstudy-lms-learning-management-system/
DTSTART:20260425T190000Z
DTEND:20260425T200000Z
DTSTAMP:20260420T041711Z
BEGIN:VALARM
ACTION:DISPLAY
RIGGER;RELATED=START:-PT00H15M00S
BEGIN:VALARM
END:VEVENT
END:VCALENDAR