BEGIN:VCALENDAR
VERSION:2.0
PRODID:-// MasterStudy LMS plugin //NONSGML v1.0//EN
CALSCALE:GREGORIAN
BEGIN:VEVENT
UID:mslms-1776659589
SUMMARY:Operational Help: Scheduling, Pricing, Announcements
LOCATION:
DESCRIPTION<p dir="ltr">- &ldquo;Draft a &lsquo;closed for holiday&rsquo; message for my business page and email list&rdquo;&nbsp;&nbsp;</p>
<p dir="ltr">- &ldquo;Explain my special offer in three different lengths: text message, email, and poster&rdquo;&nbsp;&nbsp;</p>
<p dir="ltr">- &ldquo;Turn this messy brainstorm into a step‑by‑step plan for a weekend market booth&rdquo;&nbsp;&nbsp;</p>
<p dir="ltr">- Activity: Each student picks one operational task and runs 3 prompt variations</p>
<p>&nbsp;</p>
URL;VALUE=URI:https://wordpress.org/plugins/masterstudy-lms-learning-management-system/
DTSTART:20260425T200000Z
DTEND:20260425T210000Z
DTSTAMP:20260420T043309Z
BEGIN:VALARM
ACTION:DISPLAY
RIGGER;RELATED=START:-PT00H15M00S
BEGIN:VALARM
END:VEVENT
END:VCALENDAR