BEGIN:VCALENDAR
VERSION:2.0
PRODID:-// MasterStudy LMS plugin //NONSGML v1.0//EN
CALSCALE:GREGORIAN
BEGIN:VEVENT
UID:mslms-1776659121
SUMMARY:Marketing &amp; Social Media
LOCATION:
DESCRIPTION<p dir="ltr">- **Prompt patterns:**&nbsp;&nbsp;</p>
<p dir="ltr">&nbsp;&nbsp;- &ldquo;Write 5 short captions for [product] for local Facebook group &ndash; warm, neighborly tone&rdquo;&nbsp;&nbsp;</p>
<p dir="ltr">&nbsp;&nbsp;- &ldquo;Turn this product feature list into a story a busy parent would love&rdquo;&nbsp;&nbsp;</p>
<p dir="ltr">- **Claude vs ChatGPT:**&nbsp;&nbsp;</p>
<p dir="ltr">&nbsp;&nbsp;- Claude: better at storytelling, longer posts, natural community voice&nbsp;&nbsp;</p>
<p dir="ltr">&nbsp;&nbsp;- ChatGPT: faster for hashtags, bullet lists, multiple variations&nbsp;&nbsp;</p>
<p dir="ltr">- Activity: Students paste their own product/service &rarr; generate 3 post options</p>
<p>&nbsp;</p>
URL;VALUE=URI:https://wordpress.org/plugins/masterstudy-lms-learning-management-system/
DTSTART:20260425T150000Z
DTEND:20260425T160000Z
DTSTAMP:20260420T042521Z
BEGIN:VALARM
ACTION:DISPLAY
RIGGER;RELATED=START:-PT00H15M00S
BEGIN:VALARM
END:VEVENT
END:VCALENDAR