BEGIN:VCALENDAR
VERSION:2.0
PRODID:-// MasterStudy LMS plugin //NONSGML v1.0//EN
CALSCALE:GREGORIAN
BEGIN:VEVENT
UID:mslms-1776659121
SUMMARY:Mapping Your Business to AI Tasks
LOCATION:
DESCRIPTION<ol>
<li dir="ltr">Each student identifies 3 repetitive tasks they want AI help with:</li>
<li dir="ltr">Examples: product descriptions, replies to customer questions, event announcements, thank‑you notes&nbsp;</li>
<li dir="ltr">Fill out a simple &ldquo;Prompt Planner&rdquo; generator:&nbsp;
<ul style="list-style-type: circle">
<li>Prompt Planner:<br data-start="1180" data-end="1183">👉 <a class="decorated-link" href="https://texas-academy.com/c-o-r-e-prompt-planner/" target="_new" rel="noopener" data-start="1186" data-end="1235">https://texas-academy.com/c-o-r-e-prompt-planner/</a></li>
</ul>
</li>
<li dir="ltr">Q&amp;A and homework: Bring one real piece of business text to improve (flyer, old post, email)</li>
</ol>
<p>&nbsp;</p>
URL;VALUE=URI:https://wordpress.org/plugins/masterstudy-lms-learning-management-system/
DTSTART:20260424T234500Z
DTEND:20260425T004500Z
DTSTAMP:20260420T042521Z
BEGIN:VALARM
ACTION:DISPLAY
RIGGER;RELATED=START:-PT00H15M00S
BEGIN:VALARM
END:VEVENT
END:VCALENDAR