BEGIN:VCALENDAR
VERSION:2.0
PRODID:-// MasterStudy LMS plugin //NONSGML v1.0//EN
CALSCALE:GREGORIAN
BEGIN:VEVENT
UID:mslms-1776779151
SUMMARY:Mapping your business to AI tasks.
LOCATION:
DESCRIPTION<ol>
<li dir="ltr">Each student identifies 3 repetitive tasks they want AI help with:</li>
<li dir="ltr">Examples:
<ol style="list-style-type: lower-alpha">
<li dir="ltr">product descriptions,</li>
<li dir="ltr">replies to customer questions,</li>
<li dir="ltr">event announcements,</li>
<li dir="ltr">thank‑you notes&nbsp;</li>
</ol>
</li>
<li dir="ltr">Fill out a simple &ldquo;Prompt Planner&rdquo; generator:&nbsp;
<ul style="list-style-type: circle">
<li>Prompt Planner:<br data-start="1180" data-end="1183">👉 <a class="decorated-link" href="https://texas-academy.com/c-o-r-e-prompt-planner/" target="_new" rel="noopener" data-start="1186" data-end="1235">https://texas-academy.com/c-o-r-e-prompt-planner/</a></li>
</ul>
</li>
<li>Generate designs</li>
<li>Generate power points from text prompt</li>
</ol>
<p>&nbsp;</p>
URL;VALUE=URI:https://wordpress.org/plugins/masterstudy-lms-learning-management-system/
DTSTART:20260425T000000Z
DTEND:20260425T010000Z
DTSTAMP:20260421T134551Z
BEGIN:VALARM
ACTION:DISPLAY
RIGGER;RELATED=START:-PT00H15M00S
BEGIN:VALARM
END:VEVENT
END:VCALENDAR