BEGIN:VCALENDAR
VERSION:2.0
PRODID:-// MasterStudy LMS plugin //NONSGML v1.0//EN
CALSCALE:GREGORIAN
BEGIN:VEVENT
UID:mslms-1776942248
SUMMARY:Mapping your business to AI tasks.
LOCATION:
DESCRIPTION<p>Each student identifies 3 repetitive tasks they want AI help with:</p>
<ol>
<li>Product Descriptions</li>
<li>Optimize spent time on email and optimize responding</li>
<li>Event announcements</li>
<li>Than-you notes</li>
<li>Generate designs</li>
<li>Generate slides or power-points</li>
</ol>
URL;VALUE=URI:https://wordpress.org/plugins/masterstudy-lms-learning-management-system/
DTSTART:20260421T161500Z
DTEND:20260421T171500Z
DTSTAMP:20260423T110408Z
BEGIN:VALARM
ACTION:DISPLAY
RIGGER;RELATED=START:-PT00H15M00S
BEGIN:VALARM
END:VEVENT
END:VCALENDAR