BEGIN:VCALENDAR
VERSION:2.0
PRODID:-// MasterStudy LMS plugin //NONSGML v1.0//EN
CALSCALE:GREGORIAN
BEGIN:VEVENT
UID:mslms-1776659222
SUMMARY:Fixing and Improving AI Outputs
LOCATION:
DESCRIPTION<p dir="ltr">- **Iterative prompting:**&nbsp;&nbsp;</p>
<p dir="ltr">&nbsp;&nbsp;- &ldquo;That&rsquo;s too long &ndash; shorten by half.&rdquo;&nbsp;&nbsp;</p>
<p dir="ltr">&nbsp;&nbsp;- &ldquo;Make it sound more like a neighbour and less like a corporation.&rdquo;&nbsp;&nbsp;</p>
<p dir="ltr">&nbsp;&nbsp;- &ldquo;Add a question at the end to encourage comments.&rdquo;&nbsp;&nbsp;</p>
<p dir="ltr">- **Using conversation memory** (Claude&rsquo;s longer context, ChatGPT&rsquo;s thread memory)&nbsp;&nbsp;</p>
<p dir="ltr">- Activity: Take a &ldquo;meh&rdquo; output from Saturday &rarr; improve in 2‑3 follow‑up prompts</p>
<p>&nbsp;</p>
URL;VALUE=URI:https://wordpress.org/plugins/masterstudy-lms-learning-management-system/
DTSTART:20260426T150000Z
DTEND:20260426T160000Z
DTSTAMP:20260420T042702Z
BEGIN:VALARM
ACTION:DISPLAY
RIGGER;RELATED=START:-PT00H15M00S
BEGIN:VALARM
END:VEVENT
END:VCALENDAR