BEGIN:VCALENDAR
VERSION:2.0
PRODID:-// MasterStudy LMS plugin //NONSGML v1.0//EN
CALSCALE:GREGORIAN
BEGIN:VEVENT
UID:mslms-1776659592
SUMMARY:Ethics, Privacy &amp; Human Touch
LOCATION:
DESCRIPTION<p dir="ltr">- Never paste customer personal data or payment info&nbsp;&nbsp;</p>
<p dir="ltr">- Always review AI output before posting &ndash; local reputation matters&nbsp;&nbsp;</p>
<p dir="ltr">- When to **not** use AI: sensitive complaints, personal condolences, legal/financial advice&nbsp;&nbsp;</p>
<p dir="ltr">- The &ldquo;human‑final&rdquo; rule: AI drafts &rarr; you add the local heart</p>
<p dir="ltr">**Wrap‑up &amp; Next Steps (10 min)**&nbsp;&nbsp;</p>
<p dir="ltr">- Resource pack:&nbsp;&nbsp;</p>
<p dir="ltr">&nbsp;&nbsp;- Prompt library (50+ business‑ready prompts)&nbsp;&nbsp;</p>
<p dir="ltr">&nbsp;&nbsp;- Cheat sheet: Claude vs ChatGPT quick guide&nbsp;&nbsp;</p>
<p dir="ltr">&nbsp;&nbsp;- 30‑day prompting calendar for small businesses&nbsp;&nbsp;</p>
<p dir="ltr">- Final Q&amp;A&nbsp;&nbsp;</p>
<p dir="ltr">- Certificate of completion (optional but motivating)</p>
<p>&nbsp;</p>
URL;VALUE=URI:https://wordpress.org/plugins/masterstudy-lms-learning-management-system/
DTSTART:20260426T170000Z
DTEND:20260426T180000Z
DTSTAMP:20260420T043312Z
BEGIN:VALARM
ACTION:DISPLAY
RIGGER;RELATED=START:-PT00H15M00S
BEGIN:VALARM
END:VEVENT
END:VCALENDAR