BEGIN:VCALENDAR
VERSION:2.0
PRODID:-// MasterStudy LMS plugin //NONSGML v1.0//EN
CALSCALE:GREGORIAN
BEGIN:VEVENT
UID:mslms-1776658631
SUMMARY:Customer Messages &amp; FAQs
LOCATION:
DESCRIPTION<p dir="ltr">- **Replying to common questions:**&nbsp;&nbsp;</p>
<p dir="ltr">&nbsp;&nbsp;- &ldquo;Rewrite this customer&rsquo;s complaint about late delivery into a kind, solution‑focused reply&rdquo;&nbsp;&nbsp;</p>
<p dir="ltr">&nbsp;&nbsp;- &ldquo;Create 5 answers for &lsquo;Do you deliver to [local area]?&rsquo; with friendly details&rdquo;&nbsp;&nbsp;</p>
<p dir="ltr">- **Tone training:**&nbsp;&nbsp;</p>
<p dir="ltr">&nbsp;&nbsp;- &ldquo;You are a helpful local shopkeeper. Never sound robotic. Use &lsquo;we&rsquo; and &lsquo;our community&rsquo;.&rdquo;&nbsp;&nbsp;</p>
<p dir="ltr">- Activity: Each student replies to a real (or simulated) customer message</p>
<p>&nbsp;</p>
URL;VALUE=URI:https://wordpress.org/plugins/masterstudy-lms-learning-management-system/
DTSTART:20260425T161500Z
DTEND:20260425T171500Z
DTSTAMP:20260420T041711Z
BEGIN:VALARM
ACTION:DISPLAY
RIGGER;RELATED=START:-PT00H15M00S
BEGIN:VALARM
END:VEVENT
END:VCALENDAR